BEGIN:VCALENDAR
VERSION:2.0
PRODID:-//Third Space - ECPv6.6.4.2//NONSGML v1.0//EN
CALSCALE:GREGORIAN
METHOD:PUBLISH
X-WR-CALNAME:Third Space
X-ORIGINAL-URL:https://third-space.org.uk
X-WR-CALDESC:Events for Third Space
REFRESH-INTERVAL;VALUE=DURATION:PT1H
X-Robots-Tag:noindex
X-PUBLISHED-TTL:PT1H
BEGIN:VTIMEZONE
TZID:UTC
BEGIN:STANDARD
TZOFFSETFROM:+0000
TZOFFSETTO:+0000
TZNAME:UTC
DTSTART:20130101T000000
END:STANDARD
END:VTIMEZONE
BEGIN:VEVENT
DTSTART;TZID=UTC:20130911T200000
DTEND;TZID=UTC:20130911T220059
DTSTAMP:20260424T110841
CREATED:20130908T161634Z
LAST-MODIFIED:20130908T161634Z
UID:1600-1378929600-1378936859@third-space.org.uk
SUMMARY:Quote unquote at The Gate\, Smedley Street
DESCRIPTION:Discussion  – starting with ‘All that is necessary for the triumph of evil is that good men do nothing.’ \nEdmund Burke. How might this relate to Syria?
URL:https://third-space.org.uk/event/quote-unquote-at-the-gate-smedley-street/
END:VEVENT
END:VCALENDAR