BEGIN:VCALENDAR
VERSION:2.0
PRODID:-//Third Space - ECPv6.6.4.2//NONSGML v1.0//EN
CALSCALE:GREGORIAN
METHOD:PUBLISH
X-WR-CALNAME:Third Space
X-ORIGINAL-URL:https://third-space.org.uk
X-WR-CALDESC:Events for Third Space
REFRESH-INTERVAL;VALUE=DURATION:PT1H
X-Robots-Tag:noindex
X-PUBLISHED-TTL:PT1H
BEGIN:VTIMEZONE
TZID:UTC
BEGIN:STANDARD
TZOFFSETFROM:+0000
TZOFFSETTO:+0000
TZNAME:UTC
DTSTART:20130101T000000
END:STANDARD
END:VTIMEZONE
BEGIN:VEVENT
DTSTART;VALUE=DATE:20131030
DTEND;VALUE=DATE:20131031
DTSTAMP:20260422T141726
CREATED:20130908T162507Z
LAST-MODIFIED:20130908T162507Z
UID:1608-1383091200-1383177599@third-space.org.uk
SUMMARY:Sabbath
DESCRIPTION:No meeting this evening
URL:https://third-space.org.uk/event/sabbath-28/
END:VEVENT
END:VCALENDAR