BEGIN:VCALENDAR
VERSION:2.0
PRODID:-//Third Space - ECPv6.6.4.2//NONSGML v1.0//EN
CALSCALE:GREGORIAN
METHOD:PUBLISH
X-WR-CALNAME:Third Space
X-ORIGINAL-URL:https://third-space.org.uk
X-WR-CALDESC:Events for Third Space
REFRESH-INTERVAL;VALUE=DURATION:PT1H
X-Robots-Tag:noindex
X-PUBLISHED-TTL:PT1H
BEGIN:VTIMEZONE
TZID:UTC
BEGIN:STANDARD
TZOFFSETFROM:+0000
TZOFFSETTO:+0000
TZNAME:UTC
DTSTART:20130101T000000
END:STANDARD
END:VTIMEZONE
BEGIN:VEVENT
DTSTART;TZID=UTC:20131117T093000
DTEND;TZID=UTC:20131117T100059
DTSTAMP:20260422T140545
CREATED:20131012T140619Z
LAST-MODIFIED:20131012T140619Z
UID:1630-1384680600-1384682459@third-space.org.uk
SUMMARY:Sunday at the bandstand
DESCRIPTION:A time to pray beside the river\, applying different biblical passages about rivers! The coffee and chat!
URL:https://third-space.org.uk/event/anam-cara-at-the-bandstand-17/
END:VEVENT
END:VCALENDAR