BEGIN:VCALENDAR
VERSION:2.0
PRODID:-//Third Space - ECPv6.6.4.2//NONSGML v1.0//EN
CALSCALE:GREGORIAN
METHOD:PUBLISH
X-WR-CALNAME:Third Space
X-ORIGINAL-URL:https://third-space.org.uk
X-WR-CALDESC:Events for Third Space
REFRESH-INTERVAL;VALUE=DURATION:PT1H
X-Robots-Tag:noindex
X-PUBLISHED-TTL:PT1H
BEGIN:VTIMEZONE
TZID:UTC
BEGIN:STANDARD
TZOFFSETFROM:+0000
TZOFFSETTO:+0000
TZNAME:UTC
DTSTART:20130101T000000
END:STANDARD
END:VTIMEZONE
BEGIN:VEVENT
DTSTART;TZID=UTC:20131120T200000
DTEND;TZID=UTC:20131120T223059
DTSTAMP:20260424T094847
CREATED:20131012T140732Z
LAST-MODIFIED:20131012T140732Z
UID:1631-1384977600-1384986659@third-space.org.uk
SUMMARY:Babette's Feast at Michele's
DESCRIPTION:A chance to watch and discuss the film!
URL:https://third-space.org.uk/event/babettes-feast-at-micheles/
END:VEVENT
END:VCALENDAR