BEGIN:VCALENDAR
VERSION:2.0
PRODID:-//Third Space - ECPv6.6.4.2//NONSGML v1.0//EN
CALSCALE:GREGORIAN
METHOD:PUBLISH
X-ORIGINAL-URL:https://third-space.org.uk
X-WR-CALDESC:Events for Third Space
REFRESH-INTERVAL;VALUE=DURATION:PT1H
X-Robots-Tag:noindex
X-PUBLISHED-TTL:PT1H
BEGIN:VTIMEZONE
TZID:UTC
BEGIN:STANDARD
TZOFFSETFROM:+0000
TZOFFSETTO:+0000
TZNAME:UTC
DTSTART:20130101T000000
END:STANDARD
END:VTIMEZONE
BEGIN:VEVENT
DTSTART;TZID=UTC:20131127T200000
DTEND;TZID=UTC:20131127T220059
DTSTAMP:20260424T110719
CREATED:20131012T141028Z
LAST-MODIFIED:20131012T141028Z
UID:1633-1385582400-1385589659@third-space.org.uk
SUMMARY:What the papers say at The Gate
DESCRIPTION:Topical discussion of local\, national and international news
URL:https://third-space.org.uk/event/what-the-papers-say-at-the-gate-2/
END:VEVENT
END:VCALENDAR