BEGIN:VCALENDAR
VERSION:2.0
PRODID:-//Third Space - ECPv6.6.4.2//NONSGML v1.0//EN
CALSCALE:GREGORIAN
METHOD:PUBLISH
X-WR-CALNAME:Third Space
X-ORIGINAL-URL:https://third-space.org.uk
X-WR-CALDESC:Events for Third Space
REFRESH-INTERVAL;VALUE=DURATION:PT1H
X-Robots-Tag:noindex
X-PUBLISHED-TTL:PT1H
BEGIN:VTIMEZONE
TZID:UTC
BEGIN:STANDARD
TZOFFSETFROM:+0000
TZOFFSETTO:+0000
TZNAME:UTC
DTSTART:20130101T000000
END:STANDARD
END:VTIMEZONE
BEGIN:VEVENT
DTSTART;TZID=UTC:20131208T093000
DTEND;TZID=UTC:20131208T103059
DTSTAMP:20260420T114617
CREATED:20131012T141657Z
LAST-MODIFIED:20131012T141657Z
UID:1637-1386495000-1386498659@third-space.org.uk
SUMMARY:Advent breakfast at B & G's
DESCRIPTION:A chance to escape the Victorian Market and eat\, chat and share
URL:https://third-space.org.uk/event/advent-breakfast-at-b-gs/
END:VEVENT
END:VCALENDAR