BEGIN:VCALENDAR
VERSION:2.0
PRODID:-//Third Space - ECPv6.6.4.2//NONSGML v1.0//EN
CALSCALE:GREGORIAN
METHOD:PUBLISH
X-ORIGINAL-URL:https://third-space.org.uk
X-WR-CALDESC:Events for Third Space
REFRESH-INTERVAL;VALUE=DURATION:PT1H
X-Robots-Tag:noindex
X-PUBLISHED-TTL:PT1H
BEGIN:VTIMEZONE
TZID:UTC
BEGIN:STANDARD
TZOFFSETFROM:+0000
TZOFFSETTO:+0000
TZNAME:UTC
DTSTART:20230101T000000
END:STANDARD
END:VTIMEZONE
BEGIN:VEVENT
DTSTART;TZID=UTC:20231126T093000
DTEND;TZID=UTC:20231126T110000
DTSTAMP:20260424T045344
CREATED:20231005T132109Z
LAST-MODIFIED:20231005T132109Z
UID:4767-1700991000-1700996400@third-space.org.uk
SUMMARY:Sunday at the bandstand
DESCRIPTION:A chance to reflect\, pray\, learn and share bread and wine before a cuppa at Cool River.
URL:https://third-space.org.uk/event/sunday-at-the-bandstand-269/
END:VEVENT
END:VCALENDAR